BEGIN:VCALENDAR
VERSION:2.0
PRODID:-//St. Teresa of Calcutta Parish - ECPv6.10.1.1//NONSGML v1.0//EN
CALSCALE:GREGORIAN
METHOD:PUBLISH
X-WR-CALNAME:St. Teresa of Calcutta Parish
X-ORIGINAL-URL:https://warrencatholic.org
X-WR-CALDESC:Events for St. Teresa of Calcutta Parish
REFRESH-INTERVAL;VALUE=DURATION:PT1H
X-Robots-Tag:noindex
X-PUBLISHED-TTL:PT1H
BEGIN:VTIMEZONE
TZID:America/New_York
BEGIN:DAYLIGHT
TZOFFSETFROM:-0500
TZOFFSETTO:-0400
TZNAME:EDT
DTSTART:20240310T070000
END:DAYLIGHT
BEGIN:STANDARD
TZOFFSETFROM:-0400
TZOFFSETTO:-0500
TZNAME:EST
DTSTART:20241103T060000
END:STANDARD
BEGIN:DAYLIGHT
TZOFFSETFROM:-0500
TZOFFSETTO:-0400
TZNAME:EDT
DTSTART:20250309T070000
END:DAYLIGHT
BEGIN:STANDARD
TZOFFSETFROM:-0400
TZOFFSETTO:-0500
TZNAME:EST
DTSTART:20251102T060000
END:STANDARD
END:VTIMEZONE
BEGIN:VEVENT
DTSTART;TZID=America/New_York:20250427T100000
DTEND;TZID=America/New_York:20250427T112000
DTSTAMP:20260421T135124
CREATED:20240816T125055Z
LAST-MODIFIED:20241107T191243Z
UID:10000831-1745748000-1745752800@warrencatholic.org
SUMMARY:CCD 2024-2025
DESCRIPTION:
URL:https://warrencatholic.org/event/ccd-2024-2025/2025-04-27/
LOCATION:Blessed Sacrament Church\, Enter Site 3020 Reeves Rd NE\, Warren\, OH\, 44483\, United States
CATEGORIES:CCD,Religious Education
END:VEVENT
BEGIN:VEVENT
DTSTART;TZID=America/New_York:20250406T100000
DTEND;TZID=America/New_York:20250406T112000
DTSTAMP:20260421T135124
CREATED:20240816T125055Z
LAST-MODIFIED:20241107T191243Z
UID:10000829-1743933600-1743938400@warrencatholic.org
SUMMARY:CCD 2024-2025
DESCRIPTION:
URL:https://warrencatholic.org/event/ccd-2024-2025/2025-04-06/
LOCATION:Blessed Sacrament Church\, Enter Site 3020 Reeves Rd NE\, Warren\, OH\, 44483\, United States
CATEGORIES:CCD,Religious Education
END:VEVENT
BEGIN:VEVENT
DTSTART;TZID=America/New_York:20250330T100000
DTEND;TZID=America/New_York:20250330T112000
DTSTAMP:20260421T135124
CREATED:20240816T125055Z
LAST-MODIFIED:20241107T191243Z
UID:10000828-1743328800-1743333600@warrencatholic.org
SUMMARY:CCD 2024-2025
DESCRIPTION:
URL:https://warrencatholic.org/event/ccd-2024-2025/2025-03-30/
LOCATION:Blessed Sacrament Church\, Enter Site 3020 Reeves Rd NE\, Warren\, OH\, 44483\, United States
CATEGORIES:CCD,Religious Education
END:VEVENT
BEGIN:VEVENT
DTSTART;TZID=America/New_York:20250329T170000
DTEND;TZID=America/New_York:20250329T170000
DTSTAMP:20260421T135124
CREATED:20250204T041104Z
LAST-MODIFIED:20250204T041656Z
UID:10000986-1743267600-1743267600@warrencatholic.org
SUMMARY:Cabin Fever Dinner Dance
DESCRIPTION:All proceeds benefit\nHabitat For Humanity House In Warren\nMusical Entertainment\nHomemade Food\nCash Raffles\nCash Beer & Wine \nMenu (Dine-in only)\nCavatelli & Meatballs\nChicken Marsala\nRoasted Potatoes\nGreen Beans\nTossed Salad\nDessert\nCoffee\nPunch \nTICKETS:\n$20 Adult\n$10 Children (Under 12) \nRegister online or visit the Parish Office by March 25. Presale only.\nDoors Open 5 PM\nDinner 6 PM \nOpen to the public.\nBlessed Sacrament Reagan Hall
URL:https://warrencatholic.org/event/cabin-fever/
LOCATION:Blessed Sacrament Church\, Enter Site 3020 Reeves Rd NE\, Warren\, OH\, 44483\, United States
ATTACH;FMTTYPE=image/jpeg:https://warrencatholic.org/wp-content/uploads/2025/02/winter-7689873_1920.jpg
END:VEVENT
BEGIN:VEVENT
DTSTART;TZID=America/New_York:20250323T100000
DTEND;TZID=America/New_York:20250323T112000
DTSTAMP:20260421T135124
CREATED:20240816T125055Z
LAST-MODIFIED:20241107T191243Z
UID:10000827-1742724000-1742728800@warrencatholic.org
SUMMARY:CCD 2024-2025
DESCRIPTION:
URL:https://warrencatholic.org/event/ccd-2024-2025/2025-03-23/
LOCATION:Blessed Sacrament Church\, Enter Site 3020 Reeves Rd NE\, Warren\, OH\, 44483\, United States
CATEGORIES:CCD,Religious Education
END:VEVENT
BEGIN:VEVENT
DTSTART;TZID=America/New_York:20250316T100000
DTEND;TZID=America/New_York:20250316T112000
DTSTAMP:20260421T135124
CREATED:20240816T125055Z
LAST-MODIFIED:20241107T191243Z
UID:10000826-1742119200-1742124000@warrencatholic.org
SUMMARY:CCD 2024-2025
DESCRIPTION:
URL:https://warrencatholic.org/event/ccd-2024-2025/2025-03-16/
LOCATION:Blessed Sacrament Church\, Enter Site 3020 Reeves Rd NE\, Warren\, OH\, 44483\, United States
CATEGORIES:CCD,Religious Education
END:VEVENT
BEGIN:VEVENT
DTSTART;TZID=America/New_York:20250309T100000
DTEND;TZID=America/New_York:20250309T112000
DTSTAMP:20260421T135124
CREATED:20241107T185911Z
LAST-MODIFIED:20241107T190612Z
UID:10000979-1741514400-1741519200@warrencatholic.org
SUMMARY:CCD 2024-2025 (Class & Parent Meeting)
DESCRIPTION:
URL:https://warrencatholic.org/event/ccd-2024-2025-parents/2025-03-09/
LOCATION:Blessed Sacrament Church\, Enter Site 3020 Reeves Rd NE\, Warren\, OH\, 44483\, United States
CATEGORIES:CCD,Religious Education
END:VEVENT
BEGIN:VEVENT
DTSTART;TZID=America/New_York:20250302T100000
DTEND;TZID=America/New_York:20250302T112000
DTSTAMP:20260421T135124
CREATED:20240816T125055Z
LAST-MODIFIED:20241107T191243Z
UID:10000824-1740909600-1740914400@warrencatholic.org
SUMMARY:CCD 2024-2025
DESCRIPTION:
URL:https://warrencatholic.org/event/ccd-2024-2025/2025-03-02/
LOCATION:Blessed Sacrament Church\, Enter Site 3020 Reeves Rd NE\, Warren\, OH\, 44483\, United States
CATEGORIES:CCD,Religious Education
END:VEVENT
BEGIN:VEVENT
DTSTART;TZID=America/New_York:20250223T100000
DTEND;TZID=America/New_York:20250223T112000
DTSTAMP:20260421T135124
CREATED:20240816T125055Z
LAST-MODIFIED:20241107T191243Z
UID:10000823-1740304800-1740309600@warrencatholic.org
SUMMARY:CCD 2024-2025
DESCRIPTION:
URL:https://warrencatholic.org/event/ccd-2024-2025/2025-02-23/
LOCATION:Blessed Sacrament Church\, Enter Site 3020 Reeves Rd NE\, Warren\, OH\, 44483\, United States
CATEGORIES:CCD,Religious Education
END:VEVENT
BEGIN:VEVENT
DTSTART;TZID=America/New_York:20250209T100000
DTEND;TZID=America/New_York:20250209T112000
DTSTAMP:20260421T135124
CREATED:20241107T185911Z
LAST-MODIFIED:20241107T190612Z
UID:10000978-1739095200-1739100000@warrencatholic.org
SUMMARY:CCD 2024-2025 (Class & Parent Meeting)
DESCRIPTION:
URL:https://warrencatholic.org/event/ccd-2024-2025-parents/2025-02-09/
LOCATION:Blessed Sacrament Church\, Enter Site 3020 Reeves Rd NE\, Warren\, OH\, 44483\, United States
CATEGORIES:CCD,Religious Education
END:VEVENT
BEGIN:VEVENT
DTSTART;TZID=America/New_York:20250202T100000
DTEND;TZID=America/New_York:20250202T112000
DTSTAMP:20260421T135124
CREATED:20240816T125055Z
LAST-MODIFIED:20241107T191243Z
UID:10000821-1738490400-1738495200@warrencatholic.org
SUMMARY:CCD 2024-2025
DESCRIPTION:
URL:https://warrencatholic.org/event/ccd-2024-2025/2025-02-02/
LOCATION:Blessed Sacrament Church\, Enter Site 3020 Reeves Rd NE\, Warren\, OH\, 44483\, United States
CATEGORIES:CCD,Religious Education
END:VEVENT
BEGIN:VEVENT
DTSTART;TZID=America/New_York:20250126T100000
DTEND;TZID=America/New_York:20250126T112000
DTSTAMP:20260421T135124
CREATED:20240816T125055Z
LAST-MODIFIED:20241107T191243Z
UID:10000820-1737885600-1737890400@warrencatholic.org
SUMMARY:CCD 2024-2025
DESCRIPTION:
URL:https://warrencatholic.org/event/ccd-2024-2025/2025-01-26/
LOCATION:Blessed Sacrament Church\, Enter Site 3020 Reeves Rd NE\, Warren\, OH\, 44483\, United States
CATEGORIES:CCD,Religious Education
END:VEVENT
BEGIN:VEVENT
DTSTART;TZID=America/New_York:20250112T100000
DTEND;TZID=America/New_York:20250112T112000
DTSTAMP:20260421T135124
CREATED:20241107T185911Z
LAST-MODIFIED:20241107T190612Z
UID:10000977-1736676000-1736680800@warrencatholic.org
SUMMARY:CCD 2024-2025 (Class & Parent Meeting)
DESCRIPTION:
URL:https://warrencatholic.org/event/ccd-2024-2025-parents/2025-01-12/
LOCATION:Blessed Sacrament Church\, Enter Site 3020 Reeves Rd NE\, Warren\, OH\, 44483\, United States
CATEGORIES:CCD,Religious Education
END:VEVENT
BEGIN:VEVENT
DTSTART;TZID=America/New_York:20250105T100000
DTEND;TZID=America/New_York:20250105T112000
DTSTAMP:20260421T135124
CREATED:20240816T125055Z
LAST-MODIFIED:20241107T191243Z
UID:10000818-1736071200-1736076000@warrencatholic.org
SUMMARY:CCD 2024-2025
DESCRIPTION:
URL:https://warrencatholic.org/event/ccd-2024-2025/2025-01-05/
LOCATION:Blessed Sacrament Church\, Enter Site 3020 Reeves Rd NE\, Warren\, OH\, 44483\, United States
CATEGORIES:CCD,Religious Education
END:VEVENT
BEGIN:VEVENT
DTSTART;TZID=America/New_York:20241215T100000
DTEND;TZID=America/New_York:20241215T112000
DTSTAMP:20260421T135124
CREATED:20240816T125055Z
LAST-MODIFIED:20241107T191243Z
UID:10000817-1734256800-1734261600@warrencatholic.org
SUMMARY:CCD 2024-2025
DESCRIPTION:
URL:https://warrencatholic.org/event/ccd-2024-2025/2024-12-15/
LOCATION:Blessed Sacrament Church\, Enter Site 3020 Reeves Rd NE\, Warren\, OH\, 44483\, United States
CATEGORIES:CCD,Religious Education
END:VEVENT
BEGIN:VEVENT
DTSTART;TZID=America/New_York:20241208T123000
DTEND;TZID=America/New_York:20241208T150000
DTSTAMP:20260421T135124
CREATED:20241024T131831Z
LAST-MODIFIED:20241024T131831Z
UID:10000913-1733661000-1733670000@warrencatholic.org
SUMMARY:North Road Christmas 2024
DESCRIPTION:Open to the Public \nSunday December 8th\, 2024 12:30 pm – 3:00 pm \n\nHot chocolate bar*\nSanta photos *\nKids craft shop & activites*\nMusical entertainment\nNativity display*\nCookie Walk\nPasta lunch\nSt. Teresa of Calcutta Exhibit*\nChildren’s live Nativity Pageant at 2:45 pm*\n\n*Free activity
URL:https://warrencatholic.org/event/north-road-christmas-2024/
LOCATION:Blessed Sacrament Church\, Enter Site 3020 Reeves Rd NE\, Warren\, OH\, 44483\, United States
CATEGORIES:Family Life,Parish Life
ATTACH;FMTTYPE=image/jpeg:https://warrencatholic.org/wp-content/uploads/2024/07/nroad_christmas.jpg
END:VEVENT
BEGIN:VEVENT
DTSTART;TZID=America/New_York:20241208T100000
DTEND;TZID=America/New_York:20241208T112000
DTSTAMP:20260421T135124
CREATED:20241107T185911Z
LAST-MODIFIED:20241107T190612Z
UID:10000976-1733652000-1733656800@warrencatholic.org
SUMMARY:CCD 2024-2025 (Class & Parent Meeting)
DESCRIPTION:
URL:https://warrencatholic.org/event/ccd-2024-2025-parents/2024-12-08/
LOCATION:Blessed Sacrament Church\, Enter Site 3020 Reeves Rd NE\, Warren\, OH\, 44483\, United States
CATEGORIES:CCD,Religious Education
END:VEVENT
BEGIN:VEVENT
DTSTART;TZID=America/New_York:20241128T083000
DTEND;TZID=America/New_York:20241128T093000
DTSTAMP:20260421T135124
CREATED:20241124T185025Z
LAST-MODIFIED:20241124T185138Z
UID:10000981-1732782600-1732786200@warrencatholic.org
SUMMARY:Thanksgiving Day Mass
DESCRIPTION:Thursday November 28\n8:30 AM at Blessed Sacrament Church
URL:https://warrencatholic.org/event/thanksgiving-day-mass-2024/
LOCATION:Blessed Sacrament Church\, Enter Site 3020 Reeves Rd NE\, Warren\, OH\, 44483\, United States
CATEGORIES:Blessed Sacrament
ATTACH;FMTTYPE=image/jpeg:https://warrencatholic.org/wp-content/uploads/2024/11/thanksgiving-2903166_1280.jpg
END:VEVENT
BEGIN:VEVENT
DTSTART;TZID=America/New_York:20241124T100000
DTEND;TZID=America/New_York:20241124T112000
DTSTAMP:20260421T135124
CREATED:20240816T125055Z
LAST-MODIFIED:20241107T191243Z
UID:10000815-1732442400-1732447200@warrencatholic.org
SUMMARY:CCD 2024-2025
DESCRIPTION:
URL:https://warrencatholic.org/event/ccd-2024-2025/2024-11-24/
LOCATION:Blessed Sacrament Church\, Enter Site 3020 Reeves Rd NE\, Warren\, OH\, 44483\, United States
CATEGORIES:CCD,Religious Education
END:VEVENT
BEGIN:VEVENT
DTSTART;TZID=America/New_York:20241123T160000
DTEND;TZID=America/New_York:20241123T160000
DTSTAMP:20260421T135124
CREATED:20241024T101439Z
LAST-MODIFIED:20241024T102239Z
UID:10000912-1732377600-1732377600@warrencatholic.org
SUMMARY:25th Ordination Anniversary Celebration for Fr. Ed Stafford
DESCRIPTION:4:00 pm Mass at Blessed Sacrament Church\, followed by a dinner and reception in the Covelli Gym. Please RSVP by November 18 on Flocknote. You can also call the STCP Parish Office at 330-372-2215 or email cbellus@warrencatholic.org with your name and number attending.
URL:https://warrencatholic.org/event/25th-ordination-anniversary-celebration-for-fr-ed-stafford/
LOCATION:Blessed Sacrament Church\, Enter Site 3020 Reeves Rd NE\, Warren\, OH\, 44483\, United States
CATEGORIES:Parish Life,Vocations Promotion
ATTACH;FMTTYPE=image/jpeg:https://warrencatholic.org/wp-content/uploads/2024/10/fr_ed_greeting.jpg
END:VEVENT
BEGIN:VEVENT
DTSTART;TZID=America/New_York:20241117T100000
DTEND;TZID=America/New_York:20241117T112000
DTSTAMP:20260421T135125
CREATED:20240816T125055Z
LAST-MODIFIED:20241107T191243Z
UID:10000814-1731837600-1731842400@warrencatholic.org
SUMMARY:CCD 2024-2025
DESCRIPTION:
URL:https://warrencatholic.org/event/ccd-2024-2025/2024-11-17/
LOCATION:Blessed Sacrament Church\, Enter Site 3020 Reeves Rd NE\, Warren\, OH\, 44483\, United States
CATEGORIES:CCD,Religious Education
END:VEVENT
BEGIN:VEVENT
DTSTART;TZID=America/New_York:20241112T180000
DTEND;TZID=America/New_York:20241112T203000
DTSTAMP:20260421T135125
CREATED:20241001T010212Z
LAST-MODIFIED:20241024T102513Z
UID:10000858-1731434400-1731443400@warrencatholic.org
SUMMARY:The Rescue Project
DESCRIPTION:Do you want to deepen your relationship with God? Have you ever wondered why it was necessary for Jesus to die on the cross? Do you want to know what God wants for your life? Then\, come to join us for The Rescue Project. \nThis program centers on inviting each participant to deepen their relationship with God\, through a fuller understanding and experience of God’s personal love. For this encounter to be fruitful\, it is necessary that participants commit themselves to attend all sessions\, including the retreat. I assure you it is well worth it.\nThere is NO FEE to attend. If you are interested\, please fill out the registration form below and return it to the parish office by September 16th. \nA meal\, a video conference\, small group sharing\, prayer and a day of Retreat. \nWeekly Sessions:\nTuesday\, 6-8:30pm\, Blessed Sacrament\n9/24\, 10/1\, 10/8\, 10/15\, 10/22\, 10/29\, 11/12 \nRetreat Day:\nNov. 9\, Saturday\, 9:30am-3:30pm\nBlessed Sacrament \nIf you have any questions\, please contact Sr. Debra Marie dmarie@warrencatholic.org 330-372-2215
URL:https://warrencatholic.org/event/the-rescue-project/2024-11-12/
LOCATION:Blessed Sacrament Church\, Enter Site 3020 Reeves Rd NE\, Warren\, OH\, 44483\, United States
CATEGORIES:Adult Faith Formation,Religious Education
ATTACH;FMTTYPE=image/png:https://warrencatholic.org/wp-content/uploads/2024/09/rescue_project.png
END:VEVENT
BEGIN:VEVENT
DTSTART;TZID=America/New_York:20241110T100000
DTEND;TZID=America/New_York:20241110T112000
DTSTAMP:20260421T135125
CREATED:20241107T185911Z
LAST-MODIFIED:20241107T190612Z
UID:10000916-1731232800-1731237600@warrencatholic.org
SUMMARY:CCD 2024-2025 (Class & Parent Meeting)
DESCRIPTION:
URL:https://warrencatholic.org/event/ccd-2024-2025-parents/2024-11-10/
LOCATION:Blessed Sacrament Church\, Enter Site 3020 Reeves Rd NE\, Warren\, OH\, 44483\, United States
CATEGORIES:CCD,Religious Education
END:VEVENT
BEGIN:VEVENT
DTSTART;TZID=America/New_York:20241103T100000
DTEND;TZID=America/New_York:20241103T112000
DTSTAMP:20260421T135125
CREATED:20240816T125055Z
LAST-MODIFIED:20241107T191243Z
UID:10000812-1730628000-1730632800@warrencatholic.org
SUMMARY:CCD 2024-2025
DESCRIPTION:
URL:https://warrencatholic.org/event/ccd-2024-2025/2024-11-03/
LOCATION:Blessed Sacrament Church\, Enter Site 3020 Reeves Rd NE\, Warren\, OH\, 44483\, United States
CATEGORIES:CCD,Religious Education
END:VEVENT
BEGIN:VEVENT
DTSTART;TZID=America/New_York:20241029T180000
DTEND;TZID=America/New_York:20241029T203000
DTSTAMP:20260421T135125
CREATED:20241001T010212Z
LAST-MODIFIED:20241024T102513Z
UID:10000857-1730224800-1730233800@warrencatholic.org
SUMMARY:The Rescue Project
DESCRIPTION:Do you want to deepen your relationship with God? Have you ever wondered why it was necessary for Jesus to die on the cross? Do you want to know what God wants for your life? Then\, come to join us for The Rescue Project. \nThis program centers on inviting each participant to deepen their relationship with God\, through a fuller understanding and experience of God’s personal love. For this encounter to be fruitful\, it is necessary that participants commit themselves to attend all sessions\, including the retreat. I assure you it is well worth it.\nThere is NO FEE to attend. If you are interested\, please fill out the registration form below and return it to the parish office by September 16th. \nA meal\, a video conference\, small group sharing\, prayer and a day of Retreat. \nWeekly Sessions:\nTuesday\, 6-8:30pm\, Blessed Sacrament\n9/24\, 10/1\, 10/8\, 10/15\, 10/22\, 10/29\, 11/12 \nRetreat Day:\nNov. 9\, Saturday\, 9:30am-3:30pm\nBlessed Sacrament \nIf you have any questions\, please contact Sr. Debra Marie dmarie@warrencatholic.org 330-372-2215
URL:https://warrencatholic.org/event/the-rescue-project/2024-10-29/
LOCATION:Blessed Sacrament Church\, Enter Site 3020 Reeves Rd NE\, Warren\, OH\, 44483\, United States
CATEGORIES:Adult Faith Formation,Religious Education
ATTACH;FMTTYPE=image/png:https://warrencatholic.org/wp-content/uploads/2024/09/rescue_project.png
END:VEVENT
BEGIN:VEVENT
DTSTART;TZID=America/New_York:20241027T100000
DTEND;TZID=America/New_York:20241027T112000
DTSTAMP:20260421T135125
CREATED:20240816T125055Z
LAST-MODIFIED:20241107T191243Z
UID:10000811-1730023200-1730028000@warrencatholic.org
SUMMARY:CCD 2024-2025
DESCRIPTION:
URL:https://warrencatholic.org/event/ccd-2024-2025/2024-10-27/
LOCATION:Blessed Sacrament Church\, Enter Site 3020 Reeves Rd NE\, Warren\, OH\, 44483\, United States
CATEGORIES:CCD,Religious Education
END:VEVENT
BEGIN:VEVENT
DTSTART;TZID=America/New_York:20241023T173000
DTEND;TZID=America/New_York:20241023T190000
DTSTAMP:20260421T135125
CREATED:20240821T021335Z
LAST-MODIFIED:20240821T021335Z
UID:10000848-1729704600-1729710000@warrencatholic.org
SUMMARY:The Bible Timeline
DESCRIPTION:
URL:https://warrencatholic.org/event/the-bible-timeline/2024-10-23/
LOCATION:Blessed Sacrament Church\, Enter Site 3020 Reeves Rd NE\, Warren\, OH\, 44483\, United States
CATEGORIES:Adult Faith Formation
ATTACH;FMTTYPE=image/jpeg:https://warrencatholic.org/wp-content/uploads/2024/08/desert.jpg
END:VEVENT
BEGIN:VEVENT
DTSTART;TZID=America/New_York:20241022T180000
DTEND;TZID=America/New_York:20241022T203000
DTSTAMP:20260421T135125
CREATED:20241001T010212Z
LAST-MODIFIED:20241024T102513Z
UID:10000856-1729620000-1729629000@warrencatholic.org
SUMMARY:The Rescue Project
DESCRIPTION:Do you want to deepen your relationship with God? Have you ever wondered why it was necessary for Jesus to die on the cross? Do you want to know what God wants for your life? Then\, come to join us for The Rescue Project. \nThis program centers on inviting each participant to deepen their relationship with God\, through a fuller understanding and experience of God’s personal love. For this encounter to be fruitful\, it is necessary that participants commit themselves to attend all sessions\, including the retreat. I assure you it is well worth it.\nThere is NO FEE to attend. If you are interested\, please fill out the registration form below and return it to the parish office by September 16th. \nA meal\, a video conference\, small group sharing\, prayer and a day of Retreat. \nWeekly Sessions:\nTuesday\, 6-8:30pm\, Blessed Sacrament\n9/24\, 10/1\, 10/8\, 10/15\, 10/22\, 10/29\, 11/12 \nRetreat Day:\nNov. 9\, Saturday\, 9:30am-3:30pm\nBlessed Sacrament \nIf you have any questions\, please contact Sr. Debra Marie dmarie@warrencatholic.org 330-372-2215
URL:https://warrencatholic.org/event/the-rescue-project/2024-10-22/
LOCATION:Blessed Sacrament Church\, Enter Site 3020 Reeves Rd NE\, Warren\, OH\, 44483\, United States
CATEGORIES:Adult Faith Formation,Religious Education
ATTACH;FMTTYPE=image/png:https://warrencatholic.org/wp-content/uploads/2024/09/rescue_project.png
END:VEVENT
BEGIN:VEVENT
DTSTART;TZID=America/New_York:20241020T100000
DTEND;TZID=America/New_York:20241020T112000
DTSTAMP:20260421T135125
CREATED:20240816T125055Z
LAST-MODIFIED:20241107T191243Z
UID:10000810-1729418400-1729423200@warrencatholic.org
SUMMARY:CCD 2024-2025
DESCRIPTION:
URL:https://warrencatholic.org/event/ccd-2024-2025/2024-10-20/
LOCATION:Blessed Sacrament Church\, Enter Site 3020 Reeves Rd NE\, Warren\, OH\, 44483\, United States
CATEGORIES:CCD,Religious Education
END:VEVENT
BEGIN:VEVENT
DTSTART;TZID=America/New_York:20241019T110000
DTEND;TZID=America/New_York:20241019T123000
DTSTAMP:20260421T135125
CREATED:20240930T010935Z
LAST-MODIFIED:20240930T011200Z
UID:10000849-1729335600-1729341000@warrencatholic.org
SUMMARY:Trunk or Treat 2024
DESCRIPTION:All are welcome for Trunk-or-Treat at the Blessed Sacrament Church parking lot. 11:00 – 12:30pm\, October 19\, 20204.
URL:https://warrencatholic.org/event/trunk-or-treat-2024/
LOCATION:Blessed Sacrament Church\, Enter Site 3020 Reeves Rd NE\, Warren\, OH\, 44483\, United States
CATEGORIES:Family Life
ATTACH;FMTTYPE=image/jpeg:https://warrencatholic.org/wp-content/uploads/2024/09/DSC_0209-scaled.jpg
END:VEVENT
END:VCALENDAR