BEGIN:VCALENDAR
VERSION:2.0
PRODID:-//St. Teresa of Calcutta Parish - ECPv6.10.1.1//NONSGML v1.0//EN
CALSCALE:GREGORIAN
METHOD:PUBLISH
X-WR-CALNAME:St. Teresa of Calcutta Parish
X-ORIGINAL-URL:https://warrencatholic.org
X-WR-CALDESC:Events for St. Teresa of Calcutta Parish
REFRESH-INTERVAL;VALUE=DURATION:PT1H
X-Robots-Tag:noindex
X-PUBLISHED-TTL:PT1H
BEGIN:VTIMEZONE
TZID:America/New_York
BEGIN:DAYLIGHT
TZOFFSETFROM:-0500
TZOFFSETTO:-0400
TZNAME:EDT
DTSTART:20240310T070000
END:DAYLIGHT
BEGIN:STANDARD
TZOFFSETFROM:-0400
TZOFFSETTO:-0500
TZNAME:EST
DTSTART:20241103T060000
END:STANDARD
END:VTIMEZONE
BEGIN:VEVENT
DTSTART;TZID=America/New_York:20240914T113000
DTEND;TZID=America/New_York:20240914T130000
DTSTAMP:20260424T132042
CREATED:20240817T171539Z
LAST-MODIFIED:20241024T131115Z
UID:10000833-1726313400-1726318800@warrencatholic.org
SUMMARY:Free Community Meal
DESCRIPTION:Free Community Meals held the second Saturday of each Month. All are welcome.
URL:https://warrencatholic.org/event/free-community-meal/2024-09-14/
LOCATION:St. James Church\, St. Elizabeth Ann Seton Roman Catholic Church Enter Site 2532 Burton SE\, Warren\, OH\, 44484\, United States
CATEGORIES:Caritas
ATTACH;FMTTYPE=image/jpeg:https://warrencatholic.org/wp-content/uploads/2024/08/salad-2726291_1280.jpg
END:VEVENT
BEGIN:VEVENT
DTSTART;TZID=America/New_York:20240911T173000
DTEND;TZID=America/New_York:20240911T190000
DTSTAMP:20260424T132042
CREATED:20240821T204029Z
LAST-MODIFIED:20240930T010406Z
UID:10000845-1726075800-1726081200@warrencatholic.org
SUMMARY:The Bible Timeline
DESCRIPTION:
URL:https://warrencatholic.org/event/the-bible-timeline-2/
LOCATION:Blessed Sacrament Church\, Enter Site 3020 Reeves Rd NE\, Warren\, OH\, 44483\, United States
CATEGORIES:Adult Faith Formation
ATTACH;FMTTYPE=image/jpeg:https://warrencatholic.org/wp-content/uploads/2024/08/desert.jpg
END:VEVENT
BEGIN:VEVENT
DTSTART;TZID=America/New_York:20240825T123000
DTEND;TZID=America/New_York:20240825T123000
DTSTAMP:20260424T132042
CREATED:20240817T152615Z
LAST-MODIFIED:20240817T162045Z
UID:10000832-1724589000-1724589000@warrencatholic.org
SUMMARY:Ice Cream Social
DESCRIPTION:Come and enjoy hamburgers\, hot dogs\, Mauro’s homemade pizza\, and ice cream sundaes. \nRaffles and game for kids! \nIf you would like to purchase or sell raffle tickets for the Ice Cream Social\, please contact the Parish Office at 330-393-8721.
URL:https://warrencatholic.org/event/ice-cream-social-2024/
LOCATION:St. Mary Church\, 232 Seneca Ave NE\, Warren\, OH\, 44481\, United States
CATEGORIES:Parish Life
ATTACH;FMTTYPE=image/jpeg:https://warrencatholic.org/wp-content/uploads/2024/08/bowl-ice-cream-blueberries-food-drink-f3e7d3.jpg
END:VEVENT
BEGIN:VEVENT
DTSTART;TZID=America/New_York:20240802T170000
DTEND;TZID=America/New_York:20240802T210000
DTSTAMP:20260424T132042
CREATED:20240731T015747Z
LAST-MODIFIED:20240731T020004Z
UID:10000803-1722618000-1722632400@warrencatholic.org
SUMMARY:Youth Fishing and Picnic Retreat
DESCRIPTION:
URL:https://warrencatholic.org/event/youth-fishing-and-picnic-retreat/
LOCATION:OH
CATEGORIES:Youth Ministry
ATTACH;FMTTYPE=image/png:https://warrencatholic.org/wp-content/uploads/2024/07/Screenshot-2024-06-27-at-4.26.44-PM.png
END:VEVENT
BEGIN:VEVENT
DTSTART;TZID=America/New_York:20240728T100000
DTEND;TZID=America/New_York:20240728T100000
DTSTAMP:20260424T132042
CREATED:20240707T133013Z
LAST-MODIFIED:20240708T221047Z
UID:10000802-1722160800-1722160800@warrencatholic.org
SUMMARY:Grandparents Day 2024
DESCRIPTION:A Grandparents Feast Day Celebration. Join us for 10am Mass with a special Grandparent Procession at St. James Church. Cookie decorating and refreshments will follow in St. James White Hall.
URL:https://warrencatholic.org/event/grandparents-day-2024/
LOCATION:St. James Church\, St. Elizabeth Ann Seton Roman Catholic Church Enter Site 2532 Burton SE\, Warren\, OH\, 44484\, United States
CATEGORIES:Family Life,Parish Life,St. James
ATTACH;FMTTYPE=image/jpeg:https://warrencatholic.org/wp-content/uploads/2024/07/grandparentsDay2024_2_featured.jpg
END:VEVENT
BEGIN:VEVENT
DTSTART;TZID=America/New_York:20240706T203000
DTEND;TZID=America/New_York:20240706T203000
DTSTAMP:20260424T132042
CREATED:20240622T142202Z
LAST-MODIFIED:20240622T142202Z
UID:10000801-1720297800-1720297800@warrencatholic.org
SUMMARY:Summer Movie Night
DESCRIPTION:Enjoy a movie night under the stars in the Blessed Sacrament Church Brickyard. This is a free event for all with popcorn\, snacks\, and family fun! \nBring your own lawn chairs and blankets.
URL:https://warrencatholic.org/event/summer-movie-night/
LOCATION:Blessed Sacrament Church\, Enter Site 3020 Reeves Rd NE\, Warren\, OH\, 44483\, United States
CATEGORIES:Family Life
ATTACH;FMTTYPE=image/jpeg:https://warrencatholic.org/wp-content/uploads/2024/06/move_night.jpeg
END:VEVENT
END:VCALENDAR