BEGIN:VCALENDAR
VERSION:2.0
PRODID:-//St. Teresa of Calcutta Parish - ECPv6.10.1.1//NONSGML v1.0//EN
CALSCALE:GREGORIAN
METHOD:PUBLISH
X-WR-CALNAME:St. Teresa of Calcutta Parish
X-ORIGINAL-URL:https://warrencatholic.org
X-WR-CALDESC:Events for St. Teresa of Calcutta Parish
REFRESH-INTERVAL;VALUE=DURATION:PT1H
X-Robots-Tag:noindex
X-PUBLISHED-TTL:PT1H
BEGIN:VTIMEZONE
TZID:America/New_York
BEGIN:DAYLIGHT
TZOFFSETFROM:-0500
TZOFFSETTO:-0400
TZNAME:EDT
DTSTART:20240310T070000
END:DAYLIGHT
BEGIN:STANDARD
TZOFFSETFROM:-0400
TZOFFSETTO:-0500
TZNAME:EST
DTSTART:20241103T060000
END:STANDARD
BEGIN:DAYLIGHT
TZOFFSETFROM:-0500
TZOFFSETTO:-0400
TZNAME:EDT
DTSTART:20250309T070000
END:DAYLIGHT
BEGIN:STANDARD
TZOFFSETFROM:-0400
TZOFFSETTO:-0500
TZNAME:EST
DTSTART:20251102T060000
END:STANDARD
BEGIN:DAYLIGHT
TZOFFSETFROM:-0500
TZOFFSETTO:-0400
TZNAME:EDT
DTSTART:20260308T070000
END:DAYLIGHT
BEGIN:STANDARD
TZOFFSETFROM:-0400
TZOFFSETTO:-0500
TZNAME:EST
DTSTART:20261101T060000
END:STANDARD
END:VTIMEZONE
BEGIN:VEVENT
DTSTART;VALUE=DATE:20260405
DTEND;VALUE=DATE:20260406
DTSTAMP:20260424T132050
CREATED:20260323T163022Z
LAST-MODIFIED:20260323T164031Z
UID:10001040-1775347200-1775433599@warrencatholic.org
SUMMARY:Easter Mass Schedule April 5
DESCRIPTION:Easter Sunday Mass: April 5\n8:30 AM\, BSC\n8:30 AM\, SMC\n10:00 AM\, SJC\n11:30 AM\, BSC
URL:https://warrencatholic.org/event/easter-mass-schedule-april-5/
CATEGORIES:Mass
ATTACH;FMTTYPE=image/png:https://warrencatholic.org/wp-content/uploads/2026/03/easter-sunday-he-is-risen.png
END:VEVENT
BEGIN:VEVENT
DTSTART;TZID=America/New_York:20260318T180000
DTEND;TZID=America/New_York:20260318T200000
DTSTAMP:20260424T132050
CREATED:20250303T022656Z
LAST-MODIFIED:20260316T153035Z
UID:10000992-1773856800-1773864000@warrencatholic.org
SUMMARY:St. Joseph Table and Mass
DESCRIPTION:St. Joseph Table and Mass \nMarch 19\nMass at 6 PM at St. Teresa of Calcutta/St. Mary Church\, 232 Seneca Ave NE\, Warren \nSt. Joseph Table reception following Mass at St. Mary Social Hall \nRSVP at website below. All are welcome. \n  \n 
URL:https://warrencatholic.org/event/st-joseph-table-and-mass/
CATEGORIES:Evangelization,Mass,St. Mary
ATTACH;FMTTYPE=image/jpeg:https://warrencatholic.org/wp-content/uploads/2025/02/st-joseph-scaled-e1740714626301.jpg
END:VEVENT
BEGIN:VEVENT
DTSTART;TZID=America/New_York:20260218T070000
DTEND;TZID=America/New_York:20260218T180000
DTSTAMP:20260424T132050
CREATED:20260216T034603Z
LAST-MODIFIED:20260216T034838Z
UID:10001037-1771398000-1771437600@warrencatholic.org
SUMMARY:Ash Wednesday
DESCRIPTION:St. Teresa of Calcutta Parish\nAsh Wednesday:  February 18\nDistribution of Ashes and Masses \n7 AM Liturgy of the Word & Ashes SMC  \n8:30 AM Mass\, BSC / JFK LC \n12:05 PM Mass\, SMC \n12:05 PM Mass\, BSC  \n6:00 PM Mass\, SJC
URL:https://warrencatholic.org/event/ash-wednesday-2/
CATEGORIES:Mass
ATTACH;FMTTYPE=image/jpeg:https://warrencatholic.org/wp-content/uploads/2025/02/ash-wednesday.jpg
END:VEVENT
BEGIN:VEVENT
DTSTART;TZID=America/New_York:20251231T160000
DTEND;TZID=America/New_York:20260101T100000
DTSTAMP:20260424T132050
CREATED:20251217T165657Z
LAST-MODIFIED:20251217T170000Z
UID:10001031-1767196800-1767261600@warrencatholic.org
SUMMARY:Solemnity of Mary the Holy Mother of God
DESCRIPTION:Solemnity of Mary the Holy Mother of God\nMass Schedule for December 31 and January 1 \nWednesday December 31\n4:00 PM Mass at Blessed Sacrament Church\n4:00 PM Mass at St. Mary Church \nThursday January 1\n10 AM Mass at St. James Church
URL:https://warrencatholic.org/event/solemnity-of-mary-the-holy-mother-of-god/
CATEGORIES:Blessed Sacrament,Mass,St. James,St. Mary
ATTACH;FMTTYPE=image/jpeg:https://warrencatholic.org/wp-content/uploads/2025/12/nativity-447767_1280.jpg
END:VEVENT
BEGIN:VEVENT
DTSTART;TZID=America/New_York:20251224T160000
DTEND;TZID=America/New_York:20251225T100000
DTSTAMP:20260424T132050
CREATED:20251125T175342Z
LAST-MODIFIED:20251125T175512Z
UID:10001025-1766592000-1766656800@warrencatholic.org
SUMMARY:Christmas Mass Schedule
DESCRIPTION:December 24\, 2025 Christmas Eve\n4 PM Mass Blessed Sacrament Church\n4 PM Mass St. James Church\n4 PM Mass St. Mary Church \n9 PM Mass Blessed Sacrament Church \nDecember 25\, 2025 Christmas Midnight\n12 AM Mass St. Mary Church \nDecember 25\, 2025 Christmas Day\n10 AM Mass St. James Church
URL:https://warrencatholic.org/event/christmas-mass-schedule/
CATEGORIES:Mass
ATTACH;FMTTYPE=image/jpeg:https://warrencatholic.org/wp-content/uploads/2024/12/jesus-4343780_1280.jpg
END:VEVENT
BEGIN:VEVENT
DTSTART;TZID=America/New_York:20251217T183000
DTEND;TZID=America/New_York:20251217T200000
DTSTAMP:20260424T132050
CREATED:20251217T163805Z
LAST-MODIFIED:20251217T163806Z
UID:10001029-1765996200-1766001600@warrencatholic.org
SUMMARY:Advent Communal Penance Service
DESCRIPTION:Advent Communal Penance & Reconciliation Service \nWednesday\, December 17\, 2025 at 6:30 PM\nSt. Teresa of Calcutta Parish\, Blessed Sacrament Church\n3020 Reeves Rd NE\, Warren \nPriests of the Trumbull County Deanery will hear individual confessions.
URL:https://warrencatholic.org/event/advent-communal-penance-service/
CATEGORIES:Blessed Sacrament
ATTACH;FMTTYPE=image/jpeg:https://warrencatholic.org/wp-content/uploads/2024/10/candles.jpeg
END:VEVENT
BEGIN:VEVENT
DTSTART;TZID=America/New_York:20251208T083000
DTEND;TZID=America/New_York:20251208T180000
DTSTAMP:20260424T132050
CREATED:20251203T203756Z
LAST-MODIFIED:20251203T203900Z
UID:10001028-1765182600-1765216800@warrencatholic.org
SUMMARY:The Solemnity of the Immaculate Conception of the Blessed Virgin
DESCRIPTION:The Solemnity of the Immaculate Conception of the Blessed Virgin\nHoly Day of Obligation Mass Schedule\nMonday\, December 8 \n8:30 AM  Blessed Sacrament Church \n12:05 PM  St. Mary Church \n6:00 PM  St. James Church
URL:https://warrencatholic.org/event/the-solemnity-of-the-immaculate-conception-of-the-blessed-virgin/
CATEGORIES:Mass
ATTACH;FMTTYPE=image/png:https://warrencatholic.org/wp-content/uploads/2025/12/blessed-virgin-mary.png
END:VEVENT
BEGIN:VEVENT
DTSTART;TZID=America/New_York:20251127T090000
DTEND;TZID=America/New_York:20251127T100000
DTSTAMP:20260424T132050
CREATED:20251125T180054Z
LAST-MODIFIED:20251125T180054Z
UID:10001026-1764234000-1764237600@warrencatholic.org
SUMMARY:Thanksgiving Mass
DESCRIPTION:Thanksgiving Day Mass\nThursday\, November 27\n9 AM Blessed Sacrament Church \n 
URL:https://warrencatholic.org/event/thanksgiving-mass/
CATEGORIES:Blessed Sacrament,Mass
ATTACH;FMTTYPE=image/png:https://warrencatholic.org/wp-content/uploads/2025/11/Thanksgiving-Mass-graphic.png
END:VEVENT
BEGIN:VEVENT
DTSTART;TZID=America/New_York:20251025T110000
DTEND;TZID=America/New_York:20251025T120000
DTSTAMP:20260424T132050
CREATED:20251023T160140Z
LAST-MODIFIED:20251023T160448Z
UID:10001020-1761390000-1761393600@warrencatholic.org
SUMMARY:Diocese of Youngstown Cemetery Mass
DESCRIPTION:All are invited to join Bishop David J. Bonnar and the faithful from around the diocese at: \nAll Souls Cemetery\n3823 Hoagland Blackstub Rd\nCortland\, OH 44410 \nSaturday\, October 25\, 2025\n11:00 AM Mass \nMass will be celebrated outdoors rain or shine\, please bring your own chairs and weather gear.
URL:https://warrencatholic.org/event/diocese-of-youngstown-cemetery-mass/
CATEGORIES:Mass
ATTACH;FMTTYPE=image/jpeg:https://warrencatholic.org/wp-content/uploads/2025/10/grave-674443_1280.jpg
END:VEVENT
BEGIN:VEVENT
DTSTART;TZID=America/New_York:20251007T053000
DTEND;TZID=America/New_York:20251007T200000
DTSTAMP:20260424T132050
CREATED:20250915T154958Z
LAST-MODIFIED:20250915T155427Z
UID:10001013-1759815000-1759867200@warrencatholic.org
SUMMARY:Rosary Night at St. Mary Church
DESCRIPTION:STCP Rosary Night at St. Mary Church \nTuesday\, October 7\nMass at SMC at 5:30 PM\nFree Fellowship Dinner at SMC Social Hall following Mass. \nRSVP for the Fellowship Dinner at https://stcp.flocknote.com/signup/225486 \nJoin us as we honor our Blessed Mother by saying the rosary as a parish community\nRosaries will be available for those who do not have one.
URL:https://warrencatholic.org/event/rosary-night-at-st-mary-church/
CATEGORIES:St. Mary
ATTACH;FMTTYPE=image/png:https://warrencatholic.org/wp-content/uploads/2025/09/rosary-night-picture-1.png
END:VEVENT
BEGIN:VEVENT
DTSTART;VALUE=DATE:20250814
DTEND;VALUE=DATE:20250816
DTSTAMP:20260424T132050
CREATED:20250805T142359Z
LAST-MODIFIED:20250805T143805Z
UID:10001009-1755129600-1755302399@warrencatholic.org
SUMMARY:The Solemnity of the Assumption of the Blessed Virgin Mary
DESCRIPTION:Mass Schedule for the Solemnity of the Assumption of the Blessed Virgin Mary \n\nAugust 14 at 6 PM Blessed Sacrament\nIncense will be used at this Mass\nGregorian Chant Schola\nAugust 15 at 8:30 AM St. James\nAugust 15 at 12:05 St. Mary
URL:https://warrencatholic.org/event/the-solemnity-of-the-assumption-of-the-blessed-virgin-mary/
CATEGORIES:Mass
ATTACH;FMTTYPE=image/png:https://warrencatholic.org/wp-content/uploads/2025/08/Celebrating-the-Solemnity-of-the-9.png
END:VEVENT
BEGIN:VEVENT
DTSTART;VALUE=DATE:20250608
DTEND;VALUE=DATE:20250609
DTSTAMP:20260424T132050
CREATED:20250514T043138Z
LAST-MODIFIED:20250514T043138Z
UID:10001001-1749340800-1749427199@warrencatholic.org
SUMMARY:Fr. Travis Seagraves Mass of Thanksgiving & Celebration
DESCRIPTION:Sunday\, June 8\, 2025\n10 AM\nMass of Thanksgiving and Celebration\nSt. James Church\, 2532 Burton St. SE\, Warren\, Ohio \nDinner to follow Mass at\nBlessed Sacrament Covelli Gym\, 3020 Reeves Rd NE\, Warren\, Ohio \nDoors open at 11:30 AM\nDinner at 12:30 PM \nDinner RSVP by June 2
URL:https://warrencatholic.org/event/fr-travis-seagraves-mass-of-thanksgiving-celebration/
CATEGORIES:Mass
ATTACH;FMTTYPE=image/png:https://warrencatholic.org/wp-content/uploads/2025/05/ordination.12.png
END:VEVENT
BEGIN:VEVENT
DTSTART;TZID=America/New_York:20250607T103000
DTEND;TZID=America/New_York:20250607T113000
DTSTAMP:20260424T132050
CREATED:20250514T033325Z
LAST-MODIFIED:20250514T033325Z
UID:10000999-1749292200-1749295800@warrencatholic.org
SUMMARY:Fr. Travis Seagraves Ordination
DESCRIPTION:Ordination of Fr. Travis Seagraves \nSaturday\, June 7\, 2025\n10:30 AM \nSt. Columba Cathedral\n154 W. Wood St.\nYoungstown\, Ohio \nAll are welcome \n 
URL:https://warrencatholic.org/event/fr-travis-seagraves-ordination/
CATEGORIES:Mass
ATTACH;FMTTYPE=image/avif:https://warrencatholic.org/wp-content/uploads/2025/05/st-Columba-cathedral.avif
END:VEVENT
BEGIN:VEVENT
DTSTART;VALUE=DATE:20250419
DTEND;VALUE=DATE:20250421
DTSTAMP:20260424T132050
CREATED:20250414T165318Z
LAST-MODIFIED:20250414T165318Z
UID:10000998-1745020800-1745193599@warrencatholic.org
SUMMARY:Easter Mass Schedule
DESCRIPTION:Easter Vigil\, Saturday April 19: 8:30 PM\, Easter Vigil in the Holy Night\, SMC \nEaster Sunday Mass\, Sunday April 20 \n8:30 AM\, BSC \n8:30 AM\, SMC \n10:00 AM\, SJC \n11:30 AM\, BSC \n11:30 AM\, SMC
URL:https://warrencatholic.org/event/easter-mass-schedule/
CATEGORIES:Blessed Sacrament,Mass,St. James,St. Mary
ATTACH;FMTTYPE=image/png:https://warrencatholic.org/wp-content/uploads/2025/04/He-is-Risen-e1774283549300.png
END:VEVENT
BEGIN:VEVENT
DTSTART;VALUE=DATE:20250413
DTEND;VALUE=DATE:20250420
DTSTAMP:20260424T132050
CREATED:20250408T153210Z
LAST-MODIFIED:20250408T153210Z
UID:10000997-1744502400-1745107199@warrencatholic.org
SUMMARY:Holy Week April 13 - 19
DESCRIPTION:Palm Sunday\, April 13 : Usual Weekend Mass Schedule\nMonday\, Tuesday\, Wednesday: Usual Weekday Mass Schedule\nWednesday: 6 PM\, Confessions BSC\n7 PM\, Praise & Worship Holy Hour\, BSC\nHoly Thursday\, April 17: 7 PM\, Mass of the Lord’s Supper\, SJC\nGood Friday\, April 18: 3 PM\, Celebration of the Lord’s Passion\, SJC\nGood Friday\, April 18: 7 PM\, Living Stations of the Cross\, BSC\nHoly Saturday\, April 19: 12 PM\, Blessing of Easter Food\, BSC\n                                          3 PM\, Confessions\, BSC\nHoly Saturday\, April 19: 8:30 PM\, Easter Vigil in the Holy Night\, SMC
URL:https://warrencatholic.org/event/holy-week-april-13-19/
CATEGORIES:Mass
ATTACH;FMTTYPE=image/jpeg:https://warrencatholic.org/wp-content/uploads/2025/04/palm-sunday-image-e1774283066259.jpg
END:VEVENT
BEGIN:VEVENT
DTSTART;VALUE=DATE:20250305
DTEND;VALUE=DATE:20250306
DTSTAMP:20260424T132050
CREATED:20250228T013152Z
LAST-MODIFIED:20250228T020436Z
UID:10000988-1741132800-1741219199@warrencatholic.org
SUMMARY:Ash Wednesday
DESCRIPTION:Ash Wednesday – Distribution of Ashes and Masses – March 5\, 2025 \n7:00 AM Liturgy of the Word & Ashes – St. Mary Church \n8:30 AM Mass – Blessed Sacrament Church/ JFK Lower Campus \n12:05 PM Mass – St. Mary Church \n12:05 PM Mass – Blessed Sacrament Church \n6:00 PM Mass – St. James Church \n 
URL:https://warrencatholic.org/event/ash-wednesday/
CATEGORIES:Mass
ATTACH;FMTTYPE=image/jpeg:https://warrencatholic.org/wp-content/uploads/2025/02/ash-wednesday.jpg
END:VEVENT
BEGIN:VEVENT
DTSTART;VALUE=DATE:20241231
DTEND;VALUE=DATE:20250102
DTSTAMP:20260424T132050
CREATED:20241231T155734Z
LAST-MODIFIED:20241231T155734Z
UID:10000983-1735603200-1735775999@warrencatholic.org
SUMMARY:New Year Masses - Solemnity of the Blessed Virgin Mary Mother of God
DESCRIPTION:December 31\, New Years Eve \n4:00 PM Blessed Sacrament Church \n4:00 PM St. Mary Church \n  \nJanuary 1\, New Years Day \n10:00 AM St. James Church \n  \n 
URL:https://warrencatholic.org/event/new-year-masses-solemnity-of-the-blessed-virgin-mary-mother-of-god/
CATEGORIES:Mass,Parish Life
ATTACH;FMTTYPE=image/jpeg:https://warrencatholic.org/wp-content/uploads/2024/12/jesus-4343780_1280.jpg
END:VEVENT
BEGIN:VEVENT
DTSTART;VALUE=DATE:20241224
DTEND;VALUE=DATE:20241226
DTSTAMP:20260424T132050
CREATED:20241222T001121Z
LAST-MODIFIED:20241222T001248Z
UID:10000982-1734998400-1735171199@warrencatholic.org
SUMMARY:Christmas Masses
DESCRIPTION:December 24 – Christmas Eve\n4:00 PM Blessed Sacrament Church\n4:00 PM St. James Church\n4:00 PM St. Mary Church\n9:00 PM Blessed Sacrament Church \nDecember 25 – Christmas Midnight Mass\n12:00 AM St. Mary Church \nDecember 25 – Christmas Day Mass\n8:30 AM St. Mary Church\n10:00 AM St. James Church\n11 :30 AM Blessed Sacrament Church
URL:https://warrencatholic.org/event/christmas-masses-2024/
CATEGORIES:Mass,Parish Life
ATTACH;FMTTYPE=image/jpeg:https://warrencatholic.org/wp-content/uploads/2024/12/nativity.jpg
END:VEVENT
BEGIN:VEVENT
DTSTART;TZID=America/New_York:20241128T083000
DTEND;TZID=America/New_York:20241128T093000
DTSTAMP:20260424T132050
CREATED:20241124T185025Z
LAST-MODIFIED:20241124T185138Z
UID:10000981-1732782600-1732786200@warrencatholic.org
SUMMARY:Thanksgiving Day Mass
DESCRIPTION:Thursday November 28\n8:30 AM at Blessed Sacrament Church
URL:https://warrencatholic.org/event/thanksgiving-day-mass-2024/
LOCATION:Blessed Sacrament Church\, Enter Site 3020 Reeves Rd NE\, Warren\, OH\, 44483\, United States
CATEGORIES:Blessed Sacrament
ATTACH;FMTTYPE=image/jpeg:https://warrencatholic.org/wp-content/uploads/2024/11/thanksgiving-2903166_1280.jpg
END:VEVENT
BEGIN:VEVENT
DTSTART;VALUE=DATE:20241031
DTEND;VALUE=DATE:20241104
DTSTAMP:20260424T132050
CREATED:20241031T015730Z
LAST-MODIFIED:20241101T024914Z
UID:10000915-1730332800-1730678399@warrencatholic.org
SUMMARY:All Saints and All Souls Day 2024
DESCRIPTION:
URL:https://warrencatholic.org/event/all-saints-and-all-souls-day-2024/
CATEGORIES:Blessed Sacrament,Mass,St. James,St. Mary
ATTACH;FMTTYPE=image/jpeg:https://warrencatholic.org/wp-content/uploads/2024/10/candles.jpeg
END:VEVENT
BEGIN:VEVENT
DTSTART;TZID=America/New_York:20240728T100000
DTEND;TZID=America/New_York:20240728T100000
DTSTAMP:20260424T132050
CREATED:20240707T133013Z
LAST-MODIFIED:20240708T221047Z
UID:10000802-1722160800-1722160800@warrencatholic.org
SUMMARY:Grandparents Day 2024
DESCRIPTION:A Grandparents Feast Day Celebration. Join us for 10am Mass with a special Grandparent Procession at St. James Church. Cookie decorating and refreshments will follow in St. James White Hall.
URL:https://warrencatholic.org/event/grandparents-day-2024/
LOCATION:St. James Church\, St. Elizabeth Ann Seton Roman Catholic Church Enter Site 2532 Burton SE\, Warren\, OH\, 44484\, United States
CATEGORIES:Family Life,Parish Life,St. James
ATTACH;FMTTYPE=image/jpeg:https://warrencatholic.org/wp-content/uploads/2024/07/grandparentsDay2024_2_featured.jpg
END:VEVENT
END:VCALENDAR